BEGIN:VCALENDAR
VERSION:2.0
PRODID:-//West Park Kamm&#039;s Neighborhood Development - ECPv6.15.20//NONSGML v1.0//EN
CALSCALE:GREGORIAN
METHOD:PUBLISH
X-WR-CALNAME:West Park Kamm&#039;s Neighborhood Development
X-ORIGINAL-URL:https://westparkkamms.org
X-WR-CALDESC:Events for West Park Kamm&#039;s Neighborhood Development
REFRESH-INTERVAL;VALUE=DURATION:PT1H
X-Robots-Tag:noindex
X-PUBLISHED-TTL:PT1H
BEGIN:VTIMEZONE
TZID:America/New_York
BEGIN:DAYLIGHT
TZOFFSETFROM:-0500
TZOFFSETTO:-0400
TZNAME:EDT
DTSTART:20250309T070000
END:DAYLIGHT
BEGIN:STANDARD
TZOFFSETFROM:-0400
TZOFFSETTO:-0500
TZNAME:EST
DTSTART:20251102T060000
END:STANDARD
BEGIN:DAYLIGHT
TZOFFSETFROM:-0500
TZOFFSETTO:-0400
TZNAME:EDT
DTSTART:20260308T070000
END:DAYLIGHT
BEGIN:STANDARD
TZOFFSETFROM:-0400
TZOFFSETTO:-0500
TZNAME:EST
DTSTART:20261101T060000
END:STANDARD
BEGIN:DAYLIGHT
TZOFFSETFROM:-0500
TZOFFSETTO:-0400
TZNAME:EDT
DTSTART:20270314T070000
END:DAYLIGHT
BEGIN:STANDARD
TZOFFSETFROM:-0400
TZOFFSETTO:-0500
TZNAME:EST
DTSTART:20271107T060000
END:STANDARD
END:VTIMEZONE
BEGIN:VEVENT
DTSTART;TZID=America/New_York:20260506T110000
DTEND;TZID=America/New_York:20260506T140000
DTSTAMP:20260425T231000
CREATED:20260415T173844Z
LAST-MODIFIED:20260415T173844Z
UID:2569-1778065200-1778076000@westparkkamms.org
SUMMARY:Job Fair- Cleveland Hopkins International Airport at CPL West Park
DESCRIPTION:Take your career to new heights! Cleveland Public Library is excited to host a hiring event in partnership with Cleveland Hopkins International Airport. Representatives will be on site to discuss a wide range of opportunities: frontline\, operations\, maintenance\, human resources\, IT\, seasonal positions\, and more. \nRegistration is highly recommended. Register Here
URL:https://westparkkamms.org/event/job-fair-cleveland-hopkins-international-airport-at-cpl-west-park/
LOCATION:Cleveland Public Library- West Park Branch\, 3805 W 157th St\, Cleveland\, OH\, 44111\, United States
ATTACH;FMTTYPE=image/png:https://westparkkamms.org/wp-content/uploads/2026/04/2026_03_24_11_28_09.png
END:VEVENT
END:VCALENDAR